BEGIN:VCALENDAR
VERSION:2.0
PRODID:-//Gerry O&#039;Connor - ECPv6.15.20//NONSGML v1.0//EN
CALSCALE:GREGORIAN
METHOD:PUBLISH
X-ORIGINAL-URL:https://gerryoconnor.net
X-WR-CALDESC:Events for Gerry O&#039;Connor
REFRESH-INTERVAL;VALUE=DURATION:PT1H
X-Robots-Tag:noindex
X-PUBLISHED-TTL:PT1H
BEGIN:VTIMEZONE
TZID:UTC
BEGIN:STANDARD
TZOFFSETFROM:+0000
TZOFFSETTO:+0000
TZNAME:UTC
DTSTART:20220101T000000
END:STANDARD
END:VTIMEZONE
BEGIN:VEVENT
DTSTART;TZID=UTC:20230909T200000
DTEND;TZID=UTC:20230909T220000
DTSTAMP:20260424T094226
CREATED:20230812T083748Z
LAST-MODIFIED:20230812T083748Z
UID:46293-1694289600-1694296800@gerryoconnor.net
SUMMARY:Concert - Drogheda\, Co. Louth
DESCRIPTION:Sean Corcoran Series \nGUTH na nDAOINE / THE VOICE OF THE PEOPLE \nA joyous salute to the life and work of Seán Corcoran in words\, music\, song and dance with Radie Peat\, Harry Bradley\, Róisín Ní Mhainín\, Stephen Rea\, John Banville\, Breda Keville\, Jesse Smith\, Maighread and Tríona Ní Dhomhnaill\, Libby McCrohan\, Neil Martin\, Gerry O’Connor. \nVenue: St Peter’s Church of Ireland\, Peter Street\, Drogheda\nDate: Saturday\, September 9\nTime: 8pm (Doors 7.15pm)\nTickets: €27 \n  \nprogramme
URL:https://gerryoconnor.net/event/concert-drogheda-co-louth/
CATEGORIES:Concerts,irish music,Irish song
END:VEVENT
END:VCALENDAR