BEGIN:VCALENDAR
VERSION:2.0
PRODID:-//Gerry O&#039;Connor - ECPv6.15.20//NONSGML v1.0//EN
CALSCALE:GREGORIAN
METHOD:PUBLISH
X-ORIGINAL-URL:https://gerryoconnor.net
X-WR-CALDESC:Events for Gerry O&#039;Connor
REFRESH-INTERVAL;VALUE=DURATION:PT1H
X-Robots-Tag:noindex
X-PUBLISHED-TTL:PT1H
BEGIN:VTIMEZONE
TZID:UTC
BEGIN:STANDARD
TZOFFSETFROM:+0000
TZOFFSETTO:+0000
TZNAME:UTC
DTSTART:20240101T000000
END:STANDARD
END:VTIMEZONE
BEGIN:VEVENT
DTSTART;VALUE=DATE:20251108
DTEND;VALUE=DATE:20251110
DTSTAMP:20260420T081552
CREATED:20250522T122804Z
LAST-MODIFIED:20250522T122804Z
UID:46331-1762560000-1762732799@gerryoconnor.net
SUMMARY:Austin Celtic Festival
DESCRIPTION:The Austin Celtic Festival is a premier celebration of Celtic culture\, music and arts\, held annually in Austin\, Texas. This vibrant festival brings together top-tier performers\, musicians\, dancers\, and artists from around the world to showcase the rich traditions of Ireland\, Scotland\, Wales\, and other Celtic nations.\n​\nA friendly family event\, fun for all ages\, and open to all.\nGet your tickets today.\nNo tickets sales at the gate. Online only.\nDon Penzien and I will play and teach at The Austin Celtic Festival\, which offers the highest quality regional and international Celtic artists with an extraordinary lineup of talent \nParticipate as a student in the ACF School of Traditional Arts. From beginner courses to master workshops in music\, lectures\, you can leave the ACF with new techniques\,\ninsights and experiences.
URL:https://gerryoconnor.net/event/austin-celtic-festival/
CATEGORIES:Concerts,irish dance,Irish fiddle masterclass,Irish Fiddle tuition,irish music,Irish song
END:VEVENT
BEGIN:VEVENT
DTSTART;VALUE=DATE:20260525
DTEND;VALUE=DATE:20260531
DTSTAMP:20260420T081552
CREATED:20250915T103315Z
LAST-MODIFIED:20260410T032948Z
UID:46337-1779667200-1780185599@gerryoconnor.net
SUMMARY:NorthShore Strings Fiddle Camp\, Covington\, LA\, USA
DESCRIPTION:NorthShore Strings annual Fiddle Camp in Covington\, LA. Classical and Traditional String Performance and Education. \nThrough professional performance and dynamic instruction the Northshore Strings showcases the power and versatility of string music across Classical\, Celtic\, Cajun\, Jazz\, and Bluegrass genres. \nWe are here to empower musicians\, young and old\, professional or novice\, enrich the community\, and celebrate the traditions of string playing. \nFor more information visit www.nsstrings.org
URL:https://gerryoconnor.net/event/northshore-strings-fiddle-camp-covington-la-founder-director-at/
CATEGORIES:Concerts,Irish fiddle masterclass,Irish Fiddle tuition,irish music
END:VEVENT
END:VCALENDAR