BEGIN:VCALENDAR
VERSION:2.0
PRODID:-//Gerry O&#039;Connor - ECPv6.15.20//NONSGML v1.0//EN
CALSCALE:GREGORIAN
METHOD:PUBLISH
X-ORIGINAL-URL:https://gerryoconnor.net
X-WR-CALDESC:Events for Gerry O&#039;Connor
REFRESH-INTERVAL;VALUE=DURATION:PT1H
X-Robots-Tag:noindex
X-PUBLISHED-TTL:PT1H
BEGIN:VTIMEZONE
TZID:UTC
BEGIN:STANDARD
TZOFFSETFROM:+0000
TZOFFSETTO:+0000
TZNAME:UTC
DTSTART:20230101T000000
END:STANDARD
END:VTIMEZONE
BEGIN:VEVENT
DTSTART;VALUE=DATE:20240602
DTEND;VALUE=DATE:20240603
DTSTAMP:20260420T153843
CREATED:20240111T114855Z
LAST-MODIFIED:20240111T114855Z
UID:46307-1717286400-1717372799@gerryoconnor.net
SUMMARY:Westbrook\,  ME with Kevin McElroy
DESCRIPTION:Conant Homestead\, ME 04092. – with Kevin McElroy https://\n                              www.facebook.com/theConantHomestead/
URL:https://gerryoconnor.net/event/westbrook-gerryoconnor-with-kevin-mcelroy/
CATEGORIES:Concerts,Irish fiddle masterclass,irish music,Irish song,lecture
END:VEVENT
END:VCALENDAR