BEGIN:VCALENDAR
VERSION:2.0
PRODID:-//Gerry O&#039;Connor - ECPv6.15.20//NONSGML v1.0//EN
CALSCALE:GREGORIAN
METHOD:PUBLISH
X-WR-CALNAME:Gerry O&#039;Connor
X-ORIGINAL-URL:https://gerryoconnor.net
X-WR-CALDESC:Events for Gerry O&#039;Connor
REFRESH-INTERVAL;VALUE=DURATION:PT1H
X-Robots-Tag:noindex
X-PUBLISHED-TTL:PT1H
BEGIN:VTIMEZONE
TZID:Asia/Karachi
BEGIN:STANDARD
TZOFFSETFROM:+0500
TZOFFSETTO:+0500
TZNAME:PKT
DTSTART:20230101T000000
END:STANDARD
END:VTIMEZONE
BEGIN:VEVENT
DTSTART;TZID=Asia/Karachi:20240117T190000
DTEND;TZID=Asia/Karachi:20240117T213000
DTSTAMP:20260420T064334
CREATED:20240114T192936Z
LAST-MODIFIED:20240114T192936Z
UID:46309-1705518000-1705527000@gerryoconnor.net
SUMMARY:Workshop 7pm/ Concert and Jam session hosted by Toronto Fiddle Collective. Toronto TIME  (+5hrs)
DESCRIPTION:https://www.facebook.com/events/750778276474098/?ref=newsfeed \nWednesday JAN 17th 2024 EST\nToronto Fiddle Collective\nONLINE ZOOM\n-Entire evening $35 includes:\n7pm Workshop\n8pm Concert\n9pm Jam\n-Concert only $25 \nWe are very excited to welcome back for the first time since 2016\, GERRY O’CONNOR\,  fiddler from the Irish Rovers\, to host the Toronto Fiddle Collective ONLINE on WEDNESDAY Jan 17th 2024. Starting with a fiddle workshop at 7pm EST\, followed by a concert at 8pm\, then jam until 930pm. This is an online event. \nTickets are $35 for the entire evening or $20 for workshop or concert only. For advanced tickets\, email fiddleshow@gmail.com or www.torontofiddlecollective.com.  \nAll ages\, levels and folk instruments welcome. The ZOOM LINK will be sent just before the concert. Participants/viewers should make sure they can access ZOOM on their device. You may need to download the app if you are on a phone or tablet. We hope to see you online.\nThe Toronto Fiddle Collective (TFC) is a community gathering run by local fiddler and teacher Celina Marie DiCecca. She started the monthly gathering in 2014 as a means for her students to play tunes together as well as learn from and see intimate concerts by other professional fiddlers from all over the world. Now 6 years later\, fiddlers and folkies from all over southern Ontario join in on the fun.  \nFiddlers and folk musicians of all ages and levels come together on the 3rd Wednesday of every month for various fiddle focused events. TFC hosts a new special guest professional musician to run/lead workshops\, kitchen parties\, jam sessions\, concerts\, dances and more. To keep up to date with TFC\, simply email fiddleshow@gmail.com and you will be added to the monthly e-news email list. \nTickets are always sold at the door or\, for special events\, in advance email fiddleshow@gmail.com
URL:https://gerryoconnor.net/event/workshop-7pm-concert-and-jam-session-hosted-by-toronto-fiddle-collective-toronto-time-5hrs/
CATEGORIES:Concerts,Irish fiddle masterclass,irish music
END:VEVENT
END:VCALENDAR