BEGIN:VCALENDAR
VERSION:2.0
PRODID:-//Gerry O&#039;Connor - ECPv6.15.20//NONSGML v1.0//EN
CALSCALE:GREGORIAN
METHOD:PUBLISH
X-ORIGINAL-URL:https://gerryoconnor.net
X-WR-CALDESC:Events for Gerry O&#039;Connor
REFRESH-INTERVAL;VALUE=DURATION:PT1H
X-Robots-Tag:noindex
X-PUBLISHED-TTL:PT1H
BEGIN:VTIMEZONE
TZID:UTC
BEGIN:STANDARD
TZOFFSETFROM:+0000
TZOFFSETTO:+0000
TZNAME:UTC
DTSTART:20220101T000000
END:STANDARD
END:VTIMEZONE
BEGIN:VEVENT
DTSTART;VALUE=DATE:20230525
DTEND;VALUE=DATE:20230529
DTSTAMP:20260420T052309
CREATED:20221201T151355Z
LAST-MODIFIED:20221201T151355Z
UID:46285-1684972800-1685318399@gerryoconnor.net
SUMMARY:Peyriac-de-Mer ( 101\, Aude)
DESCRIPTION:
URL:https://gerryoconnor.net/event/peyriac-de-mer-101-aude/
CATEGORIES:Concerts,irish dance,Irish fiddle masterclass,Irish Fiddle tuition,irish music,Irish song
END:VEVENT
END:VCALENDAR