BEGIN:VCALENDAR
VERSION:2.0
PRODID:-//Gerry O&#039;Connor - ECPv6.15.20//NONSGML v1.0//EN
CALSCALE:GREGORIAN
METHOD:PUBLISH
X-WR-CALNAME:Gerry O&#039;Connor
X-ORIGINAL-URL:https://gerryoconnor.net
X-WR-CALDESC:Events for Gerry O&#039;Connor
REFRESH-INTERVAL;VALUE=DURATION:PT1H
X-Robots-Tag:noindex
X-PUBLISHED-TTL:PT1H
BEGIN:VTIMEZONE
TZID:UTC
BEGIN:STANDARD
TZOFFSETFROM:+0000
TZOFFSETTO:+0000
TZNAME:UTC
DTSTART:20230101T000000
END:STANDARD
END:VTIMEZONE
BEGIN:VEVENT
DTSTART;VALUE=DATE:20240214
DTEND;VALUE=DATE:20240318
DTSTAMP:20260420T064838
CREATED:20231120T134515Z
LAST-MODIFIED:20231120T134515Z
UID:46298-1707868800-1710719999@gerryoconnor.net
SUMMARY:2024 USA Spring Tour - OH\,  TN\,  MI\,  IL\,  WA\,  OR\,  CA\,  & LA.
DESCRIPTION:I will perform 24 concerts and hold a series of fiddle workshops and lectures in the USA this spring  \nFeb.14 – Wed. 	Beavercreek  OH	   House Concert with  hillary@jimsredpants.com or 937-623-1904 \nFeb.15 – Thur. 	Yellow Springs OH.  House Concert with hillary@jimsredpants.com or 937-623-1904 \nFeb.16 – Fri. 	Columbus OH        Natalie’s Grandview -945 King Avenue\, Columbus\, OH 43212\n                 https://nataliesgrandview.com/events/trad-nua-celtic-series-presents-gerry-oconnor/ \nFeb 17.- Sat.	Cincinnati OH 	   + Mixed Instrument Masterclass; 12:30-14:00  Riley School of Irish Music                                 https://rileyirishmusic.com   \nFeb 19 – Mon.	Nashville TN	   + Fiddle Workshop at Vanderbilt University.1100 – 15:00 Room 1190\n                                   2400 Blakemore Ave. Nashville\, TN 37027 https://nashvilleirishmusicschool.com/upcoming-events/. contact:ashleighbunn79@gmail.com \nFeb.20 – Tue.	Nashville TN.     \nFeb.21 – Wed.	Nashville TN.      Concert 6:15 PM at Williams Fine Violins M 204 Donelson Pike\, Nashville\, TN 37214.  (615) 429-2927 https://nashvilleirishmusicschool.com/upcoming-events/ \nFeb.22.- Thur.	Nashville TN     19:00 The Rose in the Gap – Audiovisual Concert/ Lecture\, The Violin Shop\,   2504 8th Ave S\, Nashville.TN 37204. (615) 662-1570  Contact: ashleighbunn79@gmail.com   \nTouring with Don Penzien (Guitar)  \nFeb.24 – Sat.	Saline MI.       Acoustic Routes S 447 E. Michigan Ave\, Saline MI 48176  contact:Jim Cain – acousticsaline@gmail.com \nFeb.25 – Sun.	Chicago IL.      Chief O’Neill’s\, 3471 North Elston Avenue\, Chicago\, IL 60618	– https://www.chiefoneillspub.com/.   contact:  jimmy@jimmykeane.com   \nFeb.27 – Tue.	Vashon Isle.WA   Havurat Hall	 contact:janetstrolle@comcast.net \nFeb 28 – Wed. 	Olympia. WA.     New Traditions Café\, 300 5th Ave SW Olympia WA 9850 – newtraditionscafe.com.     contact:newtraditionsevents@gmail.com \nFeb 29 – Thur. 	Pt Townsend WA.  Palindrome\, Eaglemount Winery\, https://eaglemountwinery.com/event-schedul 300 5th Ave SW Olympia WA 9850 –  contact: centrumrecording@gmail.com \nMar.01 – Fri. 	Mount Vernon WA. Celtic Arts Foundation\, 1124 Cleveland Ave\, Mt.Vernon WA 98273\n                                 + Workshop Sat. Morning in Mt Vernon. –  contact:cayley@Celticarts.org\nMar.02 – Sat.	Seattle WA.      + Workshop Sat. Afternoon at Dusty Strings.Seattle\n                                    https://store.dustystrings.com/\n                                 Seattle Folklore Society\, 6532 Phinney Ave N\, Seattle WA 98103 – https://www.seafolklore.org/concerts/. at 19:30    contact: celtic.booking1st@gmail.co  \nMar.03 – Sun. 	Portland  OR     Abbie Wiesenbloom Presents – contact: abbiew@froggie.com \nMar.04 – Mon.   Portland OR 	   + workshop Portland OR 6 pm Nancy Conescu’s	– contact: concerts@nancyconescu.com /  \nMar.05 – Tue. 	Eugene OR	 Contact Mike Meyer – mmeyer@efn.org \nMar.06 – Wed    Ashland OR       Private event – contact kyenney@yahoo.com   \nMar.07 – Thu.	Weaverville CA.  Trinity Alps Perf. Center\, 101 Arbuckle Ct\, Weaverville CA 96093   http://www.tapaconline.org/ –      contact: taylor@aglipaymusic.com \nMar.08 – Fri. 	McCloud CA.      McCloud River Mtn Music\, 325 Lawndale Court\, McCloud CA. – https://www.mccloudmusic.com     contact: reynolds.dave3@gmail.com \nMar.09 – Sat. 	San Francisco CA.Plough and Stars\, 116 Clement St\, San Francisco\, CA 94118 – https://theploughandstars.com.     contact: Sfplough@aol.com  \nMar.11 – Mon. 	Berkeley CA.      Hillside Club\, 2286 Cedar St\, Berkeley\, CA 94709.  www.hillsideclub.org.   contact:  ellen.hsc@gmail.com / plitsky@gmail.com 	 \nMar.14 – Thur. 	San Diego  CA	  + workshop 16:30 – 18:00 CCE San Diego Contact Quin Herron;qherron@gmail for details https://www.facebook.com/comhaltas.sandiego.com\n                                   at 19:00 Hooley’s Bar\, Pvt Room\, 5500 Grossmont Center\, La Mesa  91942. \nMar.16 – Sat. 	Lafayette LA	  Celtic Bayou Festival 2024   http://www.celticbayoufestival.com \nMar.17 – Sun. 	Lafayette LA	  Celtic Bayou Festival 2024   http://www.celticbayoufestival.com
URL:https://gerryoconnor.net/event/2024-usa-spring-tour-oh-tn-mi-il-wa-or-ca-la/
CATEGORIES:Concerts,irish dance,Irish fiddle masterclass,Irish Fiddle tuition,irish music
END:VEVENT
END:VCALENDAR