BEGIN:VCALENDAR
VERSION:2.0
PRODID:-//Gerry O&#039;Connor - ECPv6.15.20//NONSGML v1.0//EN
CALSCALE:GREGORIAN
METHOD:PUBLISH
X-WR-CALNAME:Gerry O&#039;Connor
X-ORIGINAL-URL:https://gerryoconnor.net
X-WR-CALDESC:Events for Gerry O&#039;Connor
REFRESH-INTERVAL;VALUE=DURATION:PT1H
X-Robots-Tag:noindex
X-PUBLISHED-TTL:PT1H
BEGIN:VTIMEZONE
TZID:UTC
BEGIN:STANDARD
TZOFFSETFROM:+0000
TZOFFSETTO:+0000
TZNAME:UTC
DTSTART:20220101T000000
END:STANDARD
END:VTIMEZONE
BEGIN:VEVENT
DTSTART;TZID=UTC:20231120T080000
DTEND;TZID=UTC:20231120T170000
DTSTAMP:20260420T023340
CREATED:20240522T125701Z
LAST-MODIFIED:20240522T125701Z
UID:46302-1700467200-1700499600@gerryoconnor.net
SUMMARY:USA - Eastport ME & Covington LA\,  May 22- Jun 09\, 2024
DESCRIPTION:During the week May 22 – 29 in Eastport\, MA \, June 1-7  in  Covington\, LA I will give a series of teaching workshops\, lectures and performances concerts
URL:https://gerryoconnor.net/event/usa-eastport-me-covington-la-may-22-jun-09-2024/
CATEGORIES:Concerts,Irish fiddle masterclass,Irish Fiddle tuition,irish music
END:VEVENT
END:VCALENDAR